BEGIN:VCALENDAR
VERSION:2.0
PRODID:-//Tukios.com/
BEGIN:VEVENT
UID:29171b07-5844-48b7-a70d-966046d37f45@www.wisefuneral.com
DTSTAMP:20260420T004606Z
DTSTART:20260424T180000Z
DTEND:20260424T190000Z
SUMMARY:Graveside Service
DESCRIPTION:
URL:https://www.wisefuneral.com/obituaries/vicki-whitmeyer
LOCATION: 2131 Brokensword Road  Bucyrus OH 44820
GEO:40.9066894;-83.0089348
END:VEVENT
END:VCALENDAR