BEGIN:VCALENDAR
VERSION:2.0
PRODID:-//Tukios.com/
BEGIN:VEVENT
UID:ee25dc44-492d-448c-a819-327804a44a11@www.wisefuneral.com
DTSTAMP:20260422T214808Z
DTSTART:20260426T170000Z
DTEND:20260426T180000Z
SUMMARY:Funeral Service
DESCRIPTION:
URL:https://www.wisefuneral.com/obituaries/michael-zornes
LOCATION:Wise Funeral Service 129 West Warren Street  Bucyrus OH 44820
GEO:40.8062564;-82.9768271
END:VEVENT
END:VCALENDAR