BEGIN:VCALENDAR
VERSION:2.0
PRODID:-//Tukios.com/
BEGIN:VEVENT
UID:9a1ad3af-cea7-41af-993e-7bf59a7d252b@www.wisefuneral.com
DTSTAMP:20260422T214031Z
DTSTART:20260425T200000Z
DTEND:20260425T230000Z
SUMMARY:Visitation
DESCRIPTION:
URL:https://www.wisefuneral.com/obituaries/michael-zornes
LOCATION:Wise Funeral Service 129 West Warren Street  Bucyrus OH 44820
GEO:40.8062564;-82.9768271
END:VEVENT
END:VCALENDAR