BEGIN:VCALENDAR
VERSION:2.0
PRODID:-//Tukios.com/
BEGIN:VEVENT
UID:ba72a74c-214a-4ee6-abd7-844239866d5a@www.wisefuneral.com
DTSTAMP:20260424T042520Z
DTSTART:20260425T150000Z
DTEND:20260425T160000Z
SUMMARY:Funeral Service
DESCRIPTION:
URL:https://www.wisefuneral.com/obituaries/glenn-steiner
LOCATION:Wise Funeral Service 129 West Warren Street  Bucyrus OH 44820
GEO:40.8062564;-82.9768271
END:VEVENT
END:VCALENDAR