BEGIN:VCALENDAR
VERSION:2.0
PRODID:-//Tukios.com/
BEGIN:VEVENT
UID:33fcdaed-2f5a-43c5-8abb-d4ae7180c18c@www.wisefuneral.com
DTSTAMP:20260424T041725Z
DTSTART:20260425T133000Z
DTEND:20260425T145500Z
SUMMARY:Visitation
DESCRIPTION:
URL:https://www.wisefuneral.com/obituaries/glenn-steiner
LOCATION:Wise Funeral Service 129 West Warren Street  Bucyrus OH 44820
GEO:40.8062564;-82.9768271
END:VEVENT
END:VCALENDAR