BEGIN:VCALENDAR
VERSION:2.0
PRODID:-//Tukios.com/
BEGIN:VEVENT
UID:0a00168c-5cb8-4061-9a1f-9adc994b1ae5@www.wisefuneral.com
DTSTAMP:20260425T215023Z
DTSTART:20260428T170000Z
DTEND:20260428T180000Z
SUMMARY:Funeral Service
DESCRIPTION:
URL:https://www.wisefuneral.com/obituaries/gene-ballard-sr
LOCATION:Wise Funeral Service 129 West Warren Street  Bucyrus OH 44820
GEO:40.8062564;-82.9768271
END:VEVENT
END:VCALENDAR