BEGIN:VCALENDAR
VERSION:2.0
PRODID:-//Tukios.com/
BEGIN:VEVENT
UID:59878fb2-9058-4ca8-a80a-df78293882a8@www.wisefuneral.com
DTSTAMP:20260425T214437Z
DTSTART:20260428T150000Z
DTEND:20260428T165500Z
SUMMARY:Visitation
DESCRIPTION:
URL:https://www.wisefuneral.com/obituaries/gene-ballard-sr
LOCATION:Wise Funeral Service 129 West Warren Street  Bucyrus OH 44820
GEO:40.8062564;-82.9768271
END:VEVENT
END:VCALENDAR